BEGIN:VCALENDAR
VERSION:2.0
PRODID:-//ChamberMaster//Event Calendar 2.0//EN
METHOD:PUBLISH
X-PUBLISHED-TTL:P3D
REFRESH-INTERVAL:P3D
CALSCALE:GREGORIAN
BEGIN:VEVENT
DTSTART:20100604T050000Z
DTEND:20100604T050000Z
X-MICROSOFT-CDO-ALLDAYEVENT:FALSE
SUMMARY:Twilight Tasting
DESCRIPTION:Tonight's Twilight Tasting will feature craft and mircobrew beers and how they pair with cheese!  Adelicious combination - who knew?  Come and find out for yourself tonight at Gibby's!  Wine by the glass will also be available - so grab your friends and meet at Gibby's tonight!
X-ALT-DESC;FMTTYPE=text/html:Tonight's Twilight Tasting will feature craft and mircobrew beers and how they pair with cheese!  Adelicious combination - who knew?  Come and find out for yourself tonight at Gibby's!  Wine by the glass will also be available - so grab your friends and meet at Gibby's tonight!\n
LOCATION:Gibby's Wine Den
UID:e.1902.1159
SEQUENCE:3
DTSTAMP:20260420T123233Z
URL:https://business.bataviachamber.org/events/details/twilight-tasting-06-04-2010-1159
END:VEVENT

END:VCALENDAR
