BEGIN:VCALENDAR
VERSION:2.0
PRODID:-//ChamberMaster//Event Calendar 2.0//EN
METHOD:PUBLISH
X-PUBLISHED-TTL:P3D
REFRESH-INTERVAL:P3D
CALSCALE:GREGORIAN
BEGIN:VEVENT
DTSTART:20101113T060000Z
DTEND:20101113T060000Z
X-MICROSOFT-CDO-ALLDAYEVENT:FALSE
SUMMARY:Trivia Night
DESCRIPTION:TriCity Family Services is pleased to announce the return of their popular Trivia Night fundraiser on Saturday\, November 13\, 2010.  Join the fun at the St. Charles VFW\, located at 119 North 3rd St. inSt. Charles\, Illinois. 6:00 PM is Social Hour.  7:00 PM questions start. \n\nAll adults in the community are invited to join TCFS for an informal\, fun competition where teams of 6 to 8 people battleother teams to see who has the greatest knowledge of all things trivial.  Each team has its own table and answers trivia questions together.  The evening is also highlighted by additional games and a50/50 raffle.      \n\nCost to attend is only $10 per person.  The VFW provides a cash bar.  No outside alcohol is permitted.  The event is BYOF (Bring Your Own Food)\, however\, and attendees are encouraged to bring food for their table to share\, as well as a creative team name and theme.  The November Trivia Night is hosted by current Trivia Night champions “Too Cold for Boules.”  All proceeds benefit TriCity Family Services\, a local provider of community-based counseling or supportive servicesfor those in need.    \n\nRegister for Trivia Night on the website at www.tricityfamilyservices.orgor call 630-232-1070.
X-ALT-DESC;FMTTYPE=text/html:TriCity Family Services is pleased to announce the return of their popular Trivia Night fundraiser on Saturday\, November 13\, 2010.  Join the fun at the St. Charles VFW\, located at 119 North 3rd St. inSt. Charles\, Illinois. 6:00 PM is Social Hour.  7:00 PM questions start. \n\nAll adults in the community are invited to join TCFS for an informal\, fun competition where teams of 6 to 8 people battleother teams to see who has the greatest knowledge of all things trivial.  Each team has its own table and answers trivia questions together.  The evening is also highlighted by additional games and a50/50 raffle.      \n\nCost to attend is only $10 per person.  The VFW provides a cash bar.  No outside alcohol is permitted.  The event is BYOF (Bring Your Own Food)\, however\, and attendees are encouraged to bring food for their table to share\, as well as a creative team name and theme.  The November Trivia Night is hosted by current Trivia Night champions “Too Cold for Boules.”  All proceeds benefit TriCity Family Services\, a local provider of community-based counseling or supportive servicesfor those in need.    \n\nRegister for Trivia Night on the website at www.tricityfamilyservices.orgor call 630-232-1070.  \n\n\n\n
LOCATION:St. Charles VFW
UID:e.1902.27
SEQUENCE:3
DTSTAMP:20260420T023444Z
URL:https://business.bataviachamber.org/events/details/trivia-night-11-13-2010-27
END:VEVENT

END:VCALENDAR
