BEGIN:VCALENDAR
VERSION:2.0
PRODID:-//ChamberMaster//Event Calendar 2.0//EN
METHOD:PUBLISH
X-PUBLISHED-TTL:P3D
REFRESH-INTERVAL:P3D
CALSCALE:GREGORIAN
BEGIN:VEVENT
DTSTART:20120225T060000Z
DTEND:20120225T060000Z
X-MICROSOFT-CDO-ALLDAYEVENT:FALSE
SUMMARY:Trivia Night
DESCRIPTION:The Friends of TriCity Family Services Present:\nTCFS TRIVIA NIGHT\n\nSaturday\, February 25th\, 2012\n\nBatavia Moose Lodge\n1535 South Batavia Avenue (Rt. 31)\nBatavia\, IL 60510\n\n6:00 - 7:00 PM Social Hour\n7:00 - 10:00 PM Trivia Time\n\n$10 Per Person\n\nJoin us for an informal fun competition where your team of 6 -8 people (maximum 10 people per team) will battle other teams to see who has the greatest knowledge of all things trivial.\n\nYour team will have its own table.  The event is BYOF(Bring Your Own Food).  Bring a fun team name and theme\, as well as munchies or a full meal for your team to enjoy.\n\nThe Moose will provide a cash bar.  No outside alcohol is permitted.\n\nSpace is limited - advanced registration is required\n\nVisit www.tricityfamilyservices.org to register or call 630-232-1070.\n\nAll proceeds benefit TriCity Family Services.
X-ALT-DESC;FMTTYPE=text/html:The Friends of TriCity Family Services Present:\nTCFS TRIVIA NIGHT\n\nSaturday\, February 25th\, 2012\n\nBatavia Moose Lodge\n1535 South Batavia Avenue (Rt. 31)\nBatavia\, IL 60510\n\n6:00 - 7:00 PM Social Hour\n7:00 - 10:00 PM Trivia Time\n\n$10 Per Person\n\nJoin us for an informal fun competition where your team of 6 -8 people (maximum 10 people per team) will battle other teams to see who has the greatest knowledge of all things trivial.\n\nYour team will have its own table.  The event is BYOF(Bring Your Own Food).  Bring a fun team name and theme\, as well as munchies or a full meal for your team to enjoy.\n\nThe Moose will provide a cash bar.  No outside alcohol is permitted.\n\nSpace is limited - advanced registration is required\n\nVisit www.tricityfamilyservices.org to register or call 630-232-1070.\n\nAll proceeds benefit TriCity Family Services.\n\n \n\n \n\n
LOCATION:Batavia Moose Lodge
UID:e.1902.502
SEQUENCE:3
DTSTAMP:20260422T205722Z
URL:https://business.bataviachamber.org/events/details/trivia-night-02-25-2012-502
END:VEVENT

END:VCALENDAR
