BEGIN:VCALENDAR
VERSION:2.0
PRODID:-//ChamberMaster//Event Calendar 2.0//EN
METHOD:PUBLISH
X-PUBLISHED-TTL:P3D
REFRESH-INTERVAL:P3D
CALSCALE:GREGORIAN
BEGIN:VEVENT
DTSTART;VALUE=DATE:20201030
DTEND;VALUE=DATE:20201031
TRANSP:TRANSPARENT
X-MICROSOFT-CDO-ALLDAYEVENT:TRUE
SUMMARY:Trick or Treat Yourself
DESCRIPTION:You don't have to go far for Halloween treats. We'll bring them to your front yard! Surprise your family with a Halloween-inspired candy hunt right at home. Our Batavia Park District staff will personally deliver your Halloween treats and distribute them in your front yard for your family to find in the afternoon on Friday\, October 30. Once we're gone\, just say 'go' and do the trick-or-treater dash for those Halloween goodies. The fee is $15 for one drop-off per household which includes assorted candy and snacks inside plastic pumpkins. Registration deadline is Friday\, October 23 and only open to Batavia Park District residents. You only need to register one member of your household.
X-ALT-DESC;FMTTYPE=text/html:You don&#39\;t have to go far for Halloween treats. We&#39\;ll bring them to your front yard! Surprise your family with a Halloween-inspired candy hunt right at home. Our Batavia Park District staff will personally deliver your Halloween treats and distribute them in your front yard for your family to find in the afternoon on Friday\, October 30. Once we&#39\;re gone\, just say &#39\;go&#39\; and do the trick-or-treater dash for those Halloween goodies. The fee is $15 for one drop-off per household which includes assorted candy and snacks inside plastic pumpkins. Registration deadline is Friday\, October 23 and only open to Batavia Park District residents. You only need to register one member of your household.
LOCATION:Batavia - dropped off at your house
UID:e.1902.12463
SEQUENCE:3
DTSTAMP:20260422T095358Z
URL:https://business.bataviachamber.org/events/details/trick-or-treat-yourself-12463
END:VEVENT

END:VCALENDAR
