BEGIN:VCALENDAR
VERSION:2.0
PRODID:-//ChamberMaster//Event Calendar 2.0//EN
METHOD:PUBLISH
X-PUBLISHED-TTL:P3D
REFRESH-INTERVAL:P3D
CALSCALE:GREGORIAN
BEGIN:VEVENT
DTSTART:20101029T050000Z
DTEND:20101029T050000Z
X-MICROSOFT-CDO-ALLDAYEVENT:FALSE
SUMMARY:Trick or Treat Event
DESCRIPTION:Don't miss our annual Trick or Treat event. Children and families are invited to visit our stores togather some goodies. Participating stores will have a sign displayed in their window.
X-ALT-DESC;FMTTYPE=text/html:Don't miss our annual Trick or Treat event. Children and families are invited to visit our stores togather some goodies. Participating stores will have a sign displayed in their window.
LOCATION:Chicago Premium Outlets
UID:e.1902.65
SEQUENCE:3
DTSTAMP:20260420T041651Z
URL:https://business.bataviachamber.org/events/details/trick-or-treat-event-10-29-2010-65
END:VEVENT

END:VCALENDAR
