BEGIN:VCALENDAR
VERSION:2.0
PRODID:-//ChamberMaster//Event Calendar 2.0//EN
METHOD:PUBLISH
X-PUBLISHED-TTL:P3D
REFRESH-INTERVAL:P3D
CALSCALE:GREGORIAN
BEGIN:VEVENT
DTSTART;VALUE=DATE:20170506
DTEND;VALUE=DATE:20170507
TRANSP:TRANSPARENT
X-MICROSOFT-CDO-ALLDAYEVENT:TRUE
SUMMARY:TriCity Health Partnership Charity Event
DESCRIPTION:More information to follow
X-ALT-DESC;FMTTYPE=text/html:More information to follow
LOCATION:
UID:e.1902.6491
SEQUENCE:3
DTSTAMP:20260425T114005Z
URL:https://business.bataviachamber.org/events/details/tricity-health-partnership-charity-event-6491
END:VEVENT

END:VCALENDAR
