BEGIN:VCALENDAR
VERSION:2.0
PRODID:-//ChamberMaster//Event Calendar 2.0//EN
METHOD:PUBLISH
X-PUBLISHED-TTL:P3D
REFRESH-INTERVAL:P3D
CALSCALE:GREGORIAN
BEGIN:VEVENT
DTSTART:20201114T010000Z
DTEND:20201114T023000Z
X-MICROSOFT-CDO-ALLDAYEVENT:FALSE
SUMMARY:TriCity Family Services' Virtual Trivia Night
DESCRIPTION:Take a chance on us this Friday the 13th (of November) and play in our first-ever VIRTUAL TRIVIA NIGHT supporting mental health. \n\n\n\n1.) Sign up at https://secure.acceptiva.com/?cst=o2jmyT.\n\n2.) Find others to sign up and join your team (they can even play in a different state!).\n\n3.) Choose a team name and be sure that it's noted on the registration form so we know who's together.\n\n4.) Prior to Trivia Night\, we'll send all players a Zoom link and assign team breakout rooms for consulting on questions.\n\n5.) One person per team will track answers and tabulate scores.\\\n\n \n\n\n\nCan't join us but still want to support? We are also selling raffle tickets ($5 per ticket\; five tickets for $20). Try your luck at winning from one of five baskets themed around our superstitious event: MIRROR\, MIRROR ON THE WALL (Beauty basket)\; BLESS YOU (Pandemic-Precaution basket)\; BLOODY GOOD TIME (Brunch basket)\; HOWL AT THE MOON (Dog basket)\; BLANKET YOUR FEARS (Winter Warm-up basket).
X-ALT-DESC;FMTTYPE=text/html:<div>\n<div><span style="font-family:times new roman"><span style="font-size:14px"><strong><span style="background-color:rgb(255\, 255\, 255)">Take a chance on us this Friday the 13th (of November) and play in&nbsp\;</span><span style="background-color:rgb(255\, 255\, 255)\; color:rgb(5\, 5\, 5)">our first-ever VIRTUAL TRIVIA NIGHT supporting mental health.&nbsp\;</span></strong><br />\n<br />\n1.) Sign up at&nbsp\;<a class="oajrlxb2 g5ia77u1 qu0x051f esr5mh6w e9989ue4 r7d6kgcz rq0escxv nhd2j8a9 nc684nl6 p7hjln8o kvgmc6g5 cxmmr5t8 oygrvhab hcukyx3x jb3vyjys rz4wbd8a qt6c0cv9 a8nywdso i1ao9s8h esuyzwwr f1sip0of lzcic4wl py34i1dx gpro0wi8" href="https://secure.acceptiva.com/?cst=o2jmyT&amp\;fbclid=IwAR2DAASnQ-48NeE90EVI5W7agU8ao8nVCTJxlyt5NkCtRXBNZpVr341B-DY" rel="nofollow noopener" style="color: rgb(7\, 130\, 193)\; cursor: pointer\; text-decoration-line: none\; outline: none\; list-style: none\; border-width: 0px\; border-style: initial\; border-color: initial\; padding: 0px\; margin: 0px\; touch-action: manipulation\; text-align: inherit\; display: inline\; -webkit-tap-highlight-color: transparent\; box-sizing: border-box\; font-family: inherit\; animation-name: none !important\; transition-property: none !important\;" tabindex="0" target="_blank">https://secure.acceptiva.com/?cst=o2jmyT</a>.</span></span></div>\n\n<div><span style="font-family:times new roman"><span style="font-size:14px">2.) Find others to sign up and join your team (they can even play in a different state!).</span></span></div>\n\n<div><span style="font-family:times new roman"><span style="font-size:14px">3.) Choose a team name and be sure that it&#39\;s noted on the registration form so we know who&#39\;s together.</span></span></div>\n\n<div><span style="font-family:times new roman"><span style="font-size:14px">4.) Prior to Trivia Night\, we&#39\;ll send all players a Zoom link and assign team breakout rooms for consulting on questions.</span></span></div>\n\n<div><span style="font-family:times new roman"><span style="font-size:14px">5.) One person per team will track answers and tabulate scores.\\</span></span><br />\n&nbsp\;</div>\n</div>\n\n<div>\n<div><span style="font-family:times new roman"><span style="font-size:14px">Can&#39\;t join us but still want to support? We are also selling raffle tickets (<strong>$5 per ticket\; five tickets for $20</strong>). Try your luck at winning from one of five baskets themed around our superstitious event:&nbsp\;</span><span style="font-size:14px">MIRROR\, MIRROR ON THE WALL (Beauty basket)\; BLESS YOU (Pandemic-Precaution basket)\; BLOODY GOOD TIME (Brunch basket)\; HOWL AT THE MOON (Dog basket)\; BLANKET YOUR FEARS (Winter Warm-up basket).</span></span></div>\n</div>\n
LOCATION:Anytown USA
UID:e.1902.12734
SEQUENCE:3
DTSTAMP:20260422T081646Z
URL:https://business.bataviachamber.org/events/details/tricity-family-services-virtual-trivia-night-12734
END:VEVENT

END:VCALENDAR
