BEGIN:VCALENDAR
VERSION:2.0
PRODID:-//ChamberMaster//Event Calendar 2.0//EN
METHOD:PUBLISH
X-PUBLISHED-TTL:P3D
REFRESH-INTERVAL:P3D
CALSCALE:GREGORIAN
BEGIN:VEVENT
DTSTART:20180225T000000Z
DTEND:20180225T040000Z
X-MICROSOFT-CDO-ALLDAYEVENT:FALSE
SUMMARY:TriCity Family Services' Mardi Gras Gala
DESCRIPTION:The 29th Annual TriCity Family Services' fundraiser of all fundraisers comes sooner in 2018 and we don't want you to miss out!\n\n\n\nPlease join us on Saturday\, February 24\, 2018 for our Mardi Gras Gala at Pheasant Run Resort. Special Early-Bird Gala pricing is available until January 15\, 2018 ... gift yourself the opportunity to support TriCity Family Services by attending this festive event at a discount. Ticket price includes cocktail reception\, music\, dinner\, showcase raffles\, whiskey pull\, silent auction\, and live auction featuring our Gala Master of Ceremonies\, Ron Onesti (President and CEO\, The Arcada Theatre).
X-ALT-DESC;FMTTYPE=text/html:<span style="background-color:rgb(255\, 255\, 255)\; color:rgb(51\, 51\, 51)\; font-family:sans-serif\,arial\,verdana\,trebuchet ms\; font-size:13px">The 29th Annual TriCity Family Services&#39\; fundraiser of all fundraisers comes sooner in 2018 and we don&#39\;t want you to miss out!</span><br />\n<br />\n<strong>Please join us on&nbsp\;Saturday\, February 24\, 2018 for our Mardi Gras Gala at Pheasant Run Resort.</strong><span style="background-color:rgb(255\, 255\, 255)\; color:rgb(51\, 51\, 51)\; font-family:sans-serif\,arial\,verdana\,trebuchet ms\; font-size:13px">&nbsp\;Special Early-Bird Gala pricing is available until January 15\, 2018 ... gift yourself the opportunity to support TriCity Family Services by attending this festive event at a discount. Ticket price includes cocktail reception\, music\, dinner\, showcase raffles\, whiskey pull\, silent auction\, and live auction featuring our Gala Master of Ceremonies\, Ron Onesti (President and CEO\, The Arcada Theatre).&nbsp\;</span>
LOCATION:Pheasant Run Resort 4051 East Main Street St. Charles
UID:e.1902.7607
SEQUENCE:3
DTSTAMP:20260424T195050Z
URL:https://business.bataviachamber.org/events/details/tricity-family-services-mardi-gras-gala-02-24-2018-7607
END:VEVENT

END:VCALENDAR
