BEGIN:VCALENDAR
VERSION:2.0
PRODID:-//ChamberMaster//Event Calendar 2.0//EN
METHOD:PUBLISH
X-PUBLISHED-TTL:P3D
REFRESH-INTERVAL:P3D
CALSCALE:GREGORIAN
BEGIN:VEVENT
DTSTART:20110409T050000Z
DTEND:20110409T050000Z
X-MICROSOFT-CDO-ALLDAYEVENT:FALSE
SUMMARY:TriCity Family Services Annual Benefit and Auction--Saturday
DESCRIPTION:TriCity Family Services is hosting its 22nd Annual Benefit and Auction on Saturday\, April 9th\, 2011at the Hilton Garden Inn St. Charles.  The theme for this year’s event is “A Blooming Affair…GrowingHealthy Families” and it will feature extensive silent and live auctions\, a split the pot raffle\, diamond raffle\, delicious dinner and entertainment provided by the Mary Hunt Duo.  \n\nThe Hilton Garden Inn St. Charles is located at 4070 East Main St\, St. Charles\, IL 60174.  Cocktail hour begins at5:30 PM\, with dinner at 7:00 PM.  Cocktail attire required.\n\nTickets are $75 each.  Tables of 8 persons can be purchased for $600.  All proceeds benefit TriCity Family Services\, our local leader incommunity-based counseling and supportive services for those in need.\n\nMake your reservation online at www.tricityfamilyservices.org or call the TriCity Family Services offices at 630-232-1070.\n\nThe agency is accepting items for the silent and live auctions.  They are also accepting advertisers for the event program book.  The donation packet is available on the website.  Contact Hallie Hudson\, Development Associate\, at 630-232-1070 or hhudson@tricityfamilyservices.org for more information.
X-ALT-DESC;FMTTYPE=text/html:TriCity Family Services is hosting its 22nd Annual Benefit and Auction on Saturday\, April 9th\, 2011at the Hilton Garden Inn St. Charles.  The theme for this year’s event is “A Blooming Affair…GrowingHealthy Families” and it will feature extensive silent and live auctions\, a split the pot raffle\, diamond raffle\, delicious dinner and entertainment provided by the Mary Hunt Duo.  \n\nThe Hilton Garden Inn St. Charles is located at 4070 East Main St\, St. Charles\, IL 60174.  Cocktail hour begins at5:30 PM\, with dinner at 7:00 PM.  Cocktail attire required.\n\nTickets are $75 each.  Tables of 8 persons can be purchased for $600.  All proceeds benefit TriCity Family Services\, our local leader incommunity-based counseling and supportive services for those in need.\n\nMake your reservation online at www.tricityfamilyservices.org or call the TriCity Family Services offices at 630-232-1070.\n\nThe agency is accepting items for the silent and live auctions.  They are also accepting advertisers for the event program book.  The donation packet is available on the website.  Contact Hallie Hudson\, Development Associate\, at 630-232-1070 or hhudson@tricityfamilyservices.org for more information. \n
LOCATION:Hilton Garden Inn St. Charles
UID:e.1902.200
SEQUENCE:3
DTSTAMP:20260419T181526Z
URL:https://business.bataviachamber.org/events/details/tricity-family-services-annual-benefit-and-auction-saturday-04-09-2011-200
END:VEVENT

END:VCALENDAR
