BEGIN:VCALENDAR
VERSION:2.0
PRODID:-//ChamberMaster//Event Calendar 2.0//EN
METHOD:PUBLISH
X-PUBLISHED-TTL:P3D
REFRESH-INTERVAL:P3D
CALSCALE:GREGORIAN
BEGIN:VEVENT
DTSTART:20090810T180000Z
DTEND:20090810T193000Z
X-MICROSOFT-CDO-ALLDAYEVENT:FALSE
SUMMARY:''Training the Brain'' Market Research Focus Group (1:00pm)
DESCRIPTION:Are you afraid your brain is losing its ability to change\, learn and adapt? Do you fear aging because you have been told the human brain becomes stagnant as you age?HOLD EVERYTHING!!! The most recent research into your grey matter says exactly the opposite! When used actively and exercised properly the human brain retains its plasticity…continues to grow…adds new neural connections…and learns even into old age. Want proof? Read The Brain That Changes Itself: Stories of Personal Triumph from the Frontiers of Brain Science by Norman Doidge\, M.D. You won’t look at your brain the same way ever again!A good friend of the Batavia Chamber\, Tom Mastandrea of Human Resources Concepts will be in Batavia on August 10 to run two focus groups with Chamber members to explore the potential to “train the brain” and how such a new program might suit various demographic populations.There is no charge to participate in either of these market research efforts\, but the sessions are strictly limited to 15 participants. Sign up today for either this session at 1:00pm session (over by 2:30pm) or the earlier one beginning at 9:30am (over by 11:00am).It promises to be very interesting…your brain just might thank you!
X-ALT-DESC;FMTTYPE=text/html:<P align=left><FONT color=#0000ff size=4>Are you afraid your brain is losing its ability to change\, learn and adapt? Do you fear aging because you have been told the human brain becomes stagnant as you age?</FONT></P><P align=left><FONT color=#0000ff size=4>HOLD EVERYTHING!!! <EM><FONT color=#800000>The most recent research into your grey matter says exactly the opposite!</FONT></EM> When used actively and exercised properly the human brain retains its plasticity…continues to grow…adds new neural connections…and learns even into old age. Want proof? Read <EM>The Brain That Changes Itself: Stories of Personal Triumph from the Frontiers of Brain Science</EM> by Norman Doidge\, M.D. You won’t look at your brain the same way ever again!</FONT></P><P align=left><FONT color=#0000ff size=4>A good friend of the Batavia Chamber\, Tom Mastandrea of Human Resources Concepts will be in Batavia on August 10 to run two focus groups with Chamber members to explore the potential to “train the brain” and how such a new program might suit various demographic populations.</FONT></P><P align=left><FONT color=#0000ff size=4>There is no charge to participate in either of these market research efforts\, but the sessions are strictly limited to 15 participants. Sign up today for either this session at&nbsp\;1:00pm session (over by 2:30pm) or the earlier one beginning at&nbsp\;9:30am (over by 11:00am).</FONT></P><P align=left><FONT color=#0000ff size=4>It promises to be very interesting…your brain just might thank you!<BR></FONT></P>
LOCATION:City of Batavia
UID:e.1902.1810
SEQUENCE:3
DTSTAMP:20260421T051906Z
URL:https://business.bataviachamber.org/events/details/training-the-brain-market-research-focus-group-1-00pm-08-10-2009-1810
END:VEVENT

END:VCALENDAR
