BEGIN:VCALENDAR
VERSION:2.0
PRODID:-//ChamberMaster//Event Calendar 2.0//EN
METHOD:PUBLISH
X-PUBLISHED-TTL:P3D
REFRESH-INTERVAL:P3D
CALSCALE:GREGORIAN
BEGIN:VEVENT
DTSTART:20090508T050000Z
DTEND:20090508T050000Z
X-MICROSOFT-CDO-ALLDAYEVENT:FALSE
SUMMARY:Touch-A-Truck Day
DESCRIPTION:Kids of all ages can explore vehicles of all shapes and sizes\, including a fire truck\, crane\, dump truck\, police car and more. This event is free!
X-ALT-DESC;FMTTYPE=text/html:Kids of all ages can explore vehicles of all shapes and sizes\, including a fire truck\, crane\, dump truck\, police car and more. This event is free!
LOCATION:Eastside Community Center
UID:e.1902.904
SEQUENCE:3
DTSTAMP:20260421T103855Z
URL:https://business.bataviachamber.org/events/details/touch-a-truck-day-05-08-2009-904
END:VEVENT

END:VCALENDAR
