BEGIN:VCALENDAR
VERSION:2.0
PRODID:-//ChamberMaster//Event Calendar 2.0//EN
METHOD:PUBLISH
X-PUBLISHED-TTL:P3D
REFRESH-INTERVAL:P3D
CALSCALE:GREGORIAN
BEGIN:VEVENT
DTSTART:20170512T153000Z
DTEND:20170512T170000Z
X-MICROSOFT-CDO-ALLDAYEVENT:FALSE
SUMMARY:Touch a Truck
DESCRIPTION:Touch-A-Truck Day gives kids of all ages the opportunity to touch\, feel\, and climb through\, into and out of each and every vehicle available. There could be a firetruck\, tractor\, dump truck\, bus\, limousine\, police car and more. Parent supervision is required and cameras are highly recommended!
X-ALT-DESC;FMTTYPE=text/html:<span style="font-family:arial narrow\,sans-serif"><span style="font-size:10.0pt">Touch-A-Truck Day gives kids of all ages the opportunity to touch\, feel\, and climb through\, into and out of each and every vehicle available. There could be a firetruck\, tractor\, dump truck\, bus\, limousine\, police car and more. Parent supervision is required and cameras are highly recommended!&nbsp\;</span></span>
LOCATION:Eastside Community Center\, 14 N. Van Buren Street\, Batavia
UID:e.1902.6587
SEQUENCE:3
DTSTAMP:20260425T113022Z
URL:https://business.bataviachamber.org/events/details/touch-a-truck-6587
END:VEVENT

END:VCALENDAR
