BEGIN:VCALENDAR
VERSION:2.0
PRODID:-//ChamberMaster//Event Calendar 2.0//EN
METHOD:PUBLISH
X-PUBLISHED-TTL:P3D
REFRESH-INTERVAL:P3D
CALSCALE:GREGORIAN
BEGIN:VEVENT
DTSTART:20100227T060000Z
DTEND:20100227T060000Z
X-MICROSOFT-CDO-ALLDAYEVENT:FALSE
SUMMARY:Toss for a Cause Bags Tournament
DESCRIPTION:Teams of two adults 21 and up are invited to "Toss for a Cause" at the Batavia Parks Foundation's annual bags tournament. Fee includes tournament\, refreshments\, snacks\, childcare for ages 5-11 and cash prizes for first and second place teams. Proceeds benefit the Parks Foundation. Registration formsare available at the Park District Civic Center\, 327 W. Wilson St.
X-ALT-DESC;FMTTYPE=text/html:Teams of two adults 21 and up are invited to "Toss for a Cause" at the Batavia Parks Foundation's annual bags tournament. Fee includes tournament\, refreshments\, snacks\, childcare for ages 5-11 and cash prizes for first and second place teams. Proceeds benefit the Parks Foundation. Registration formsare available at the Park District Civic Center\, 327 W. Wilson St.
LOCATION:Eastside Community Center
UID:e.1902.1101
SEQUENCE:3
DTSTAMP:20260420T175622Z
URL:https://business.bataviachamber.org/events/details/toss-for-a-cause-bags-tournament-02-27-2010-1101
END:VEVENT

END:VCALENDAR
