BEGIN:VCALENDAR
VERSION:2.0
PRODID:-//ChamberMaster//Event Calendar 2.0//EN
METHOD:PUBLISH
X-PUBLISHED-TTL:P3D
REFRESH-INTERVAL:P3D
CALSCALE:GREGORIAN
BEGIN:VEVENT
DTSTART:20090228T060000Z
DTEND:20090228T060000Z
X-MICROSOFT-CDO-ALLDAYEVENT:FALSE
SUMMARY:Toss for a Cause Adult Bags Tournament
DESCRIPTION:Two person teams will compete for cash and prizes while supporting the Batavia Parks Foundation at the Toss for a Cause adult bags tournament on Saturday\, February 28. Snacks\, refreshments and free child care will be provided for children 5-12.
X-ALT-DESC;FMTTYPE=text/html:Two person teams will compete for cash and prizes while supporting the Batavia Parks Foundation at the Toss for a Cause adult bags tournament on Saturday\, February 28. Snacks\, refreshments and free child care will be provided for children 5-12.
LOCATION:Eastside Community Center
UID:e.1902.817
SEQUENCE:3
DTSTAMP:20260421T163204Z
URL:https://business.bataviachamber.org/events/details/toss-for-a-cause-adult-bags-tournament-02-28-2009-817
END:VEVENT

END:VCALENDAR
