BEGIN:VCALENDAR
VERSION:2.0
PRODID:-//ChamberMaster//Event Calendar 2.0//EN
METHOD:PUBLISH
X-PUBLISHED-TTL:P3D
REFRESH-INTERVAL:P3D
CALSCALE:GREGORIAN
BEGIN:VEVENT
DTSTART:20090621T050000Z
DTEND:20090621T050000Z
X-MICROSOFT-CDO-ALLDAYEVENT:FALSE
SUMMARY:Toast Dad with a Beer This Father's Day at Niche Restaurant
DESCRIPTION:This Father’s Day\, Niche Restaurant invites locals and Chicagoans alike to celebrate the special dadin their lives at Niche’s first-ever Beer Brunch - an unrivaled three course meal paired with a selection of distinguished beers. Niche’s special three course Beer Brunch offers a little bit of everything just for Dad. From out-of-this-world food to top notch beer\, Dad will surely “feel the love.”
X-ALT-DESC;FMTTYPE=text/html:This Father’s Day\, Niche Restaurant invites locals and Chicagoans alike to celebrate the special dadin their lives at Niche’s first-ever Beer Brunch - an unrivaled three course meal paired with a selection of distinguished beers. Niche’s special three course Beer Brunch offers a little bit of everything just for Dad. From out-of-this-world food to top notch beer\, Dad will surely “feel the love.”
LOCATION:Niche Restaurant
UID:e.1902.954
SEQUENCE:3
DTSTAMP:20260421T091946Z
URL:https://business.bataviachamber.org/events/details/toast-dad-with-a-beer-this-father-s-day-at-niche-restaurant-06-21-2009-954
END:VEVENT

END:VCALENDAR
