BEGIN:VCALENDAR
VERSION:2.0
PRODID:-//ChamberMaster//Event Calendar 2.0//EN
METHOD:PUBLISH
X-PUBLISHED-TTL:P3D
REFRESH-INTERVAL:P3D
CALSCALE:GREGORIAN
BEGIN:VEVENT
DTSTART:20180604T140000Z
DTEND:20180610T000000Z
X-MICROSOFT-CDO-ALLDAYEVENT:FALSE
SUMMARY:The Sweet Side of School Spirit
DESCRIPTION:Anderson Animal Shelter Spirit Week.  We have school spirit and we know you do too!  Come into Nothing Bundt Cakes in Geneva the week of June 4th   9th and 20% of any purchases or paid future orders will go to the shelter.  Don't forget to mention or bring in flyer to participate in spirit week.\n\nhttp://files.constantcontact.com/6ba4a617001/60957ff6-b91b-4f09-93ff-0d3311e28b42.pdf?ver=1522338341000
X-ALT-DESC;FMTTYPE=text/html:<p><span style="background-color:transparent\; color:rgb(0\, 0\, 0)\; font-family:calibri\; font-size:10pt">Anderson Animal Shelter Spirit Week. &nbsp\;We have school spirit and we know you do too! &nbsp\;Come into Nothing Bundt Cakes in Geneva the week of June </span><span style="background-color:transparent\; color:rgb(0\, 0\, 0)\; font-family:calibri\; font-size:10pt">4</span><span style="background-color:transparent\; color:rgb(0\, 0\, 0)\; font-family:calibri\; font-size:6pt">th</span><span style="background-color:transparent\; color:rgb(0\, 0\, 0)\; font-family:calibri\; font-size:10pt"> &ndash\; </span><span style="background-color:transparent\; color:rgb(0\, 0\, 0)\; font-family:calibri\; font-size:10pt">9</span><span style="background-color:transparent\; color:rgb(0\, 0\, 0)\; font-family:calibri\; font-size:6pt">th</span><span style="background-color:transparent\; color:rgb(0\, 0\, 0)\; font-family:calibri\; font-size:10pt"> and 20% of any purchases or paid future orders will go to the shelter. &nbsp\;Don&rsquo\;t forget to mention or bring in flyer to participate in spirit week.</span></p>\n\n<p><span style="color:rgb(0\, 0\, 255)\; font-family:arial\; font-size:10pt"><a href="http://files.constantcontact.com/6ba4a617001/60957ff6-b91b-4f09-93ff-0d3311e28b42.pdf?ver=1522338341000" style="text-decoration-line: none\;">http://files.constantcontact.com/6ba4a617001/60957ff6-b91b-4f09-93ff-0d3311e28b42.pdf?ver=1522338341000</a></span></p>\n\n<div>&nbsp\;</div>\n\n<p>&nbsp\;</p>\n\n<div>&nbsp\;</div>\n
LOCATION:1086 Commons Drive Geneva\, IL 60134
UID:e.1902.7953
SEQUENCE:3
DTSTAMP:20260424T131234Z
URL:https://business.bataviachamber.org/events/details/the-sweet-side-of-school-spirit-7953
END:VEVENT

END:VCALENDAR
