BEGIN:VCALENDAR
VERSION:2.0
PRODID:-//ChamberMaster//Event Calendar 2.0//EN
METHOD:PUBLISH
X-PUBLISHED-TTL:P3D
REFRESH-INTERVAL:P3D
CALSCALE:GREGORIAN
BEGIN:VEVENT
DTSTART:20081025T010000Z
DTEND:20081024T050000Z
X-MICROSOFT-CDO-ALLDAYEVENT:FALSE
SUMMARY:The Legend of Sleepy Hollow - Albright Theatre
DESCRIPTION:Ghouls and goblins of any age are sure to have a hauntingly good time.  Will Ichabod lose his heart to the lovely Katrina...or will he lose his head to the mysterious Horseman said to haunt the woods of this tiny village? $10 for Adults$7 for Students and Seniors
X-ALT-DESC;FMTTYPE=text/html:<DIV style="FONT-FAMILY: Arial" align=left><DIV style="FONT-FAMILY: Arial" align=left>Ghouls and goblins of any age are sure to have a hauntingly good time. </DIV><DIV style="FONT-FAMILY: Arial" align=left>&nbsp\;</DIV><DIV style="FONT-FAMILY: Arial" align=left>Will Ichabod lose his heart to the lovely Katrina...or will he lose his head to the mysterious Horseman said to haunt the woods of this tiny village?</DIV><DIV style="FONT-FAMILY: Arial" align=left>&nbsp\;</DIV><DIV style="FONT-FAMILY: Arial" align=left>$10 for Adults</DIV><DIV style="FONT-FAMILY: Arial" align=left>$7 for Students and Seniors</DIV></DIV>
LOCATION:3rd Floor of City Hall
UID:e.1902.1595
SEQUENCE:3
DTSTAMP:20260425T170133Z
URL:https://business.bataviachamber.org/events/details/the-legend-of-sleepy-hollow-albright-theatre-10-24-2008-1595
END:VEVENT

END:VCALENDAR
