BEGIN:VCALENDAR
VERSION:2.0
PRODID:-//ChamberMaster//Event Calendar 2.0//EN
METHOD:PUBLISH
X-PUBLISHED-TTL:P3D
REFRESH-INTERVAL:P3D
CALSCALE:GREGORIAN
BEGIN:VEVENT
DTSTART:20101013T050000Z
DTEND:20101013T050000Z
X-MICROSOFT-CDO-ALLDAYEVENT:FALSE
SUMMARY:The Inside Scoop: How to Successfully Run a Multi-Million Do
DESCRIPTION:Juventino Cano\, President and CEO of Cano Container Corporation\nWednesday\, October 13th from 6:00 p.m. to 7:30 p.m.\n\nJoin us as Juventino Cano shares how to successfully build and manage a multi-million dollar business. Learn how he became President and CEO of Cano Container Corporation\, one of the Top 500 Hispanic Owned Businesses as named by Hispanic Business Magazine.\n\nMr. Cano will sharehis business philosophies and personal story of hard work and commitment that led him to a successful career in entrepreneurship.\n\nThere will be time to network with other professionals and studentsbefore and after this event. Everyone in attendance will be entered to win a free $50 gift card toOffice Max!
X-ALT-DESC;FMTTYPE=text/html:Juventino Cano\, President and CEO of Cano Container Corporation\nWednesday\, October 13th from 6:00 p.m. to 7:30 p.m.\n\nJoin us as Juventino Cano shares how to successfully build and manage a multi-million dollar business. Learn how he became President and CEO of Cano Container Corporation\, one of the Top 500 Hispanic Owned Businesses as named by Hispanic Business Magazine.\n\nMr. Cano will sharehis business philosophies and personal story of hard work and commitment that led him to a successful career in entrepreneurship.\n\nThere will be time to network with other professionals and studentsbefore and after this event. Everyone in attendance will be entered to win a free $50 gift card toOffice Max!
LOCATION:Rasmussen College
UID:e.1902.67
SEQUENCE:3
DTSTAMP:20260420T041805Z
URL:https://business.bataviachamber.org/events/details/the-inside-scoop-how-to-successfully-run-a-multi-million-do-10-13-2010-67
END:VEVENT

END:VCALENDAR
