BEGIN:VCALENDAR
VERSION:2.0
PRODID:-//ChamberMaster//Event Calendar 2.0//EN
METHOD:PUBLISH
X-PUBLISHED-TTL:P3D
REFRESH-INTERVAL:P3D
CALSCALE:GREGORIAN
BEGIN:VEVENT
DTSTART:20110618T050000Z
DTEND:20110618T050000Z
X-MICROSOFT-CDO-ALLDAYEVENT:FALSE
SUMMARY:The Great Lobster Fly In
DESCRIPTION:Celebrate summer!  Celebrate fathers!\nWhatever the event\, celebrate with a Lobster Dinner!\n\nTriCity Family Services is proud to bring the community their Great Lobster Fly-In again this year!  For all the lobster lovers in the TriCity area\, this Father’s Day weekend tradition has been occurring for 25 years!  Kick off this summer with a lobster party\, with fresh live lobsters\, arriving Saturday\, June 18th.\n1-1/4 pound lobsters are delivered live that morning and are $20 each.  Lobsters can be ordered live or steamed.  For those who are not fans of shellfish\, TriCity Family Servicesis offering 8 oz. prime beef filets\, from Josef’s Meat and Deli (Geneva) for $15 each.  Add a tastyvariety of breads from the Great Harvest Bread Company (Geneva) and a delicious cupcake box with twocupcakes\, by The Latest Crave (Geneva) to complete your summer celebration or Father's Day meal.\nTo order online visit www.tricityfamilyservices.org.  To order by mail\, fax or phone contact TriCity Family Services\, 1120 Randall Ct. Geneva\, IL 60134.  Payment must accompany each order.  Orders must be received by Monday\, June 13\, 2011.  \n\nAll orders must be picked up at The Great Lobster Fly-In event on Saturday\, June 18\, 2011 between 9:00 AM and 11:30 AM at the Old Kane County Courthouseparking lot in downtown Geneva on James Street.  \n \nAll proceeds from The Great Lobster Fly-In benefit TriCity Family Services\, a not-for-profit human service agency providing counseling and supportive services for all ages and all incomes in central Kane County.  \n\nDon’t miss this great area tradition for a great cause\, and place your lobster order today!
X-ALT-DESC;FMTTYPE=text/html:Celebrate summer!  Celebrate fathers!\nWhatever the event\, celebrate with a Lobster Dinner!\n\nTriCity Family Services is proud to bring the community their Great Lobster Fly-In again this year!  For all the lobster lovers in the TriCity area\, this Father’s Day weekend tradition has been occurring for 25 years!  Kick off this summer with a lobster party\, with fresh live lobsters\, arriving Saturday\, June 18th.\n1-1/4 pound lobsters are delivered live that morning and are $20 each.  Lobsters can be ordered live or steamed.  For those who are not fans of shellfish\, TriCity Family Servicesis offering 8 oz. prime beef filets\, from Josef’s Meat and Deli (Geneva) for $15 each.  Add a tastyvariety of breads from the Great Harvest Bread Company (Geneva) and a delicious cupcake box with twocupcakes\, by The Latest Crave (Geneva) to complete your summer celebration or Father's Day meal.\nTo order online visit www.tricityfamilyservices.org.  To order by mail\, fax or phone contact TriCity Family Services\, 1120 Randall Ct. Geneva\, IL 60134.  Payment must accompany each order.  Orders must be received by Monday\, June 13\, 2011.  \n\nAll orders must be picked up at The Great Lobster Fly-In event on Saturday\, June 18\, 2011 between 9:00 AM and 11:30 AM at the Old Kane County Courthouseparking lot in downtown Geneva on James Street.  \n \nAll proceeds from The Great Lobster Fly-In benefit TriCity Family Services\, a not-for-profit human service agency providing counseling and supportive services for all ages and all incomes in central Kane County.  \n\nDon’t miss this great area tradition for a great cause\, and place your lobster order today!  \n\n \n
LOCATION:Old Kane County Courthouse
UID:e.1902.247
SEQUENCE:3
DTSTAMP:20260423T120007Z
URL:https://business.bataviachamber.org/events/details/the-great-lobster-fly-in-06-18-2011-247
END:VEVENT

END:VCALENDAR
