BEGIN:VCALENDAR
VERSION:2.0
PRODID:-//ChamberMaster//Event Calendar 2.0//EN
METHOD:PUBLISH
X-PUBLISHED-TTL:P3D
REFRESH-INTERVAL:P3D
CALSCALE:GREGORIAN
BEGIN:VEVENT
DTSTART:20180624T190000Z
DTEND:20180624T210000Z
X-MICROSOFT-CDO-ALLDAYEVENT:FALSE
SUMMARY:THE GREAT AMERICAN SONGBOOK CONCERT
DESCRIPTION:BRADFORD NEWQUIST along with his pianist Bill Underwood\, will take you on a nostalgic musical journey through the world's favorite American music. It is a classic performance featuring composers such as Gershwin\, Porter and Rogers and songs sung by vocal legends like Sinatra\, Cole\, Clooney and Martin. Bradford's delivery of these gems is clean and refreshing\, giving a show that is packed with something for everyone. Be certain that this show will be a hit with your audience as Bradford explores the music\, the memories and the magic that makes us love "The Great American Songbook."
X-ALT-DESC;FMTTYPE=text/html:BRADFORD NEWQUIST along with his pianist Bill Underwood\, will take you on a nostalgic musical journey through the world&rsquo\;s favorite American music. It is a classic performance featuring composers such as Gershwin\, Porter and Rogers and songs sung by vocal legends like Sinatra\, Cole\, Clooney and Martin. Bradford&rsquo\;s delivery of these gems is clean and refreshing\, giving a show that is packed with something for everyone. Be certain that this show will be a hit with your audience as Bradford explores the music\, the memories and the magic that makes us love &ldquo\;The Great American Songbook.&rdquo\;
LOCATION:Unity of Fox Valley 230 Webster Street Batavia\, IL 60510
UID:e.1902.9122
SEQUENCE:3
DTSTAMP:20260424T130548Z
URL:https://business.bataviachamber.org/events/details/the-great-american-songbook-concert-9122
END:VEVENT

END:VCALENDAR
