BEGIN:VCALENDAR
VERSION:2.0
PRODID:-//ChamberMaster//Event Calendar 2.0//EN
METHOD:PUBLISH
X-PUBLISHED-TTL:P3D
REFRESH-INTERVAL:P3D
CALSCALE:GREGORIAN
BEGIN:VEVENT
DTSTART:20200310T143000Z
DTEND:20200310T160000Z
X-MICROSOFT-CDO-ALLDAYEVENT:FALSE
SUMMARY:The Founding Exchange Geneva Event @25N Coworking
DESCRIPTION:Wanna meet up with fellow mom entrepreneurs and build a better business?\n\n\n\nThe Founding Exchange: We learn from business experts\, swap actionable\, practical advice and help one another grow our companies.
X-ALT-DESC;FMTTYPE=text/html:Wanna meet up with fellow mom entrepreneurs&nbsp\;and build a better business?<br />\n<br />\nThe Founding Exchange:&nbsp\;We learn from business experts\, swap actionable\, practical&nbsp\;advice and help one another grow our companies.
LOCATION:25N Coworking 25 N River Lane\, #103 Geneva\, IL 60134
UID:e.1902.10893
SEQUENCE:3
DTSTAMP:20260422T215444Z
URL:https://business.bataviachamber.org/events/details/the-founding-exchange-geneva-event-25n-coworking-03-10-2020-10893
END:VEVENT

END:VCALENDAR
