BEGIN:VCALENDAR
VERSION:2.0
PRODID:-//ChamberMaster//Event Calendar 2.0//EN
METHOD:PUBLISH
X-PUBLISHED-TTL:P3D
REFRESH-INTERVAL:P3D
CALSCALE:GREGORIAN
BEGIN:VEVENT
DTSTART:20100910T050000Z
DTEND:20100925T050000Z
X-MICROSOFT-CDO-ALLDAYEVENT:FALSE
SUMMARY:''The Desk Set''
DESCRIPTION:"The Desk Set"\, written by William Marchant\, is a witty show in which the women who run the reference department at a broadcasting network\, affectionately referred to as "the desk set"\, feel their jobs are being threatened by the introduction of a computer.  Though set in the 1950's\, "The Desk Set"offers a good laugh to everyone who is struggling to stay afloat in this unstable economy (Rated PG).\nShow Dates: September 10\, 11\, 12\, 17\, 18\, 19\, 24 & 25\nShow Times: Friday & Saturday Evenings at8pm.  Sunday Matinees at 2:00 pm.  Doors to the theatre open 30 minutes before the performance begins.\nTicket Prices: Adults $13\, Students/Seniors $10\n*Season Tickets are still available!  Please call us at 630-406-8838 if you are interested!*\nThe Albright Theatre Company is a proud member of theBatavia Chamber of Commerce
X-ALT-DESC;FMTTYPE=text/html:"The Desk Set"\, written by William Marchant\, is a witty show in which the women who run the reference department at a broadcasting network\, affectionately referred to as "the desk set"\, feel their jobs are being threatened by the introduction of a computer.  Though set in the 1950's\, "The Desk Set"offers a good laugh to everyone who is struggling to stay afloat in this unstable economy (Rated PG).\nShow Dates: September 10\, 11\, 12\, 17\, 18\, 19\, 24 & 25\nShow Times: Friday & Saturday Evenings at8pm.  Sunday Matinees at 2:00 pm.  Doors to the theatre open 30 minutes before the performance begins.\nTicket Prices: Adults $13\, Students/Seniors $10\n*Season Tickets are still available!  Please call us at 630-406-8838 if you are interested!*\nThe Albright Theatre Company is a proud member of theBatavia Chamber of Commerce
LOCATION:Albright Theatre Company
UID:e.1902.15
SEQUENCE:3
DTSTAMP:20260420T073012Z
URL:https://business.bataviachamber.org/events/details/the-desk-set-09-10-2010-15
END:VEVENT

END:VCALENDAR
