BEGIN:VCALENDAR
VERSION:2.0
PRODID:-//ChamberMaster//Event Calendar 2.0//EN
METHOD:PUBLISH
X-PUBLISHED-TTL:P3D
REFRESH-INTERVAL:P3D
CALSCALE:GREGORIAN
BEGIN:VEVENT
DTSTART:20110728T050000Z
DTEND:20110801T050000Z
X-MICROSOFT-CDO-ALLDAYEVENT:FALSE
SUMMARY:The Back-to-School & Fall Preview Sale
DESCRIPTION:Sunday end time 6:00 pm\nDon't miss the annual Back-to-School & Fall Preview Sale. Enjoy extra savings on top of our everyday savings of 25% to 65%.
X-ALT-DESC;FMTTYPE=text/html:Sunday end time 6:00 pm\nDon't miss the annual Back-to-School & Fall Preview Sale. Enjoy extra savings on top of our everyday savings of 25% to 65%.
LOCATION:Chicago Premium Outlets
UID:e.1902.318
SEQUENCE:3
DTSTAMP:20260419T120905Z
URL:https://business.bataviachamber.org/events/details/the-back-to-school-fall-preview-sale-07-28-2011-318
END:VEVENT

END:VCALENDAR
