BEGIN:VCALENDAR
VERSION:2.0
PRODID:-//ChamberMaster//Event Calendar 2.0//EN
METHOD:PUBLISH
X-PUBLISHED-TTL:P3D
REFRESH-INTERVAL:P3D
CALSCALE:GREGORIAN
BEGIN:VEVENT
DTSTART:20100430T050000Z
DTEND:20100430T050000Z
X-MICROSOFT-CDO-ALLDAYEVENT:FALSE
SUMMARY:The Art of Giving
DESCRIPTION:The Wine Exchange of St. Charles\, with TriCity Family Services\, is hosting “The Art of Giving” a wine tasting and art sale event for the community on Friday\, April 30\, 2010 from 6:00 to 8:30 PM.\n\nThe event is being held at the Wine Exchange\, located at 1 Illinois St. in St. Charles.  Artworkfor sale is being provided by the local artists of Water Street Studios in Batavia.  A percentage of all wine and art sales will go to TriCity Family Services\, in addition all admission fees will bedonated to TriCity Family Services.  \n\nAdmission is a donation of $20 in advance\, or $25 at the door.  Reservations can be made online at www.tricityfamilyservices.org or by calling TriCity Family Services at (630) 232-1070.
X-ALT-DESC;FMTTYPE=text/html:The Wine Exchange of St. Charles\, with TriCity Family Services\, is hosting “The Art of Giving” a wine tasting and art sale event for the community on Friday\, April 30\, 2010 from 6:00 to 8:30 PM.\n\nThe event is being held at the Wine Exchange\, located at 1 Illinois St. in St. Charles.  Artworkfor sale is being provided by the local artists of Water Street Studios in Batavia.  A percentage of all wine and art sales will go to TriCity Family Services\, in addition all admission fees will bedonated to TriCity Family Services.  \n\nAdmission is a donation of $20 in advance\, or $25 at the door.  Reservations can be made online at www.tricityfamilyservices.org or by calling TriCity Family Services at (630) 232-1070.  \n\n
LOCATION:Wine Exchange
UID:e.1902.1149
SEQUENCE:3
DTSTAMP:20260420T144049Z
URL:https://business.bataviachamber.org/events/details/the-art-of-giving-04-30-2010-1149
END:VEVENT

END:VCALENDAR
