BEGIN:VCALENDAR
VERSION:2.0
PRODID:-//ChamberMaster//Event Calendar 2.0//EN
METHOD:PUBLISH
X-PUBLISHED-TTL:P3D
REFRESH-INTERVAL:P3D
CALSCALE:GREGORIAN
BEGIN:VEVENT
DTSTART:20120127T060000Z
DTEND:20120127T060000Z
X-MICROSOFT-CDO-ALLDAYEVENT:FALSE
SUMMARY:Teens Won't Wait Kick Off Reception
DESCRIPTION:You are invited to a Kick Off Reception for TriCity Family Services Teens Won't Wait Project\, Friday\, Jan. 27th\, 2012.Teens Won't Wait is an agency-wide initiative to increase our impact on teenagers in the community and achieve the funding necessary to treat more of them than we ever have in the history of our agency.Meet and hear from teens themselves. See why services for teens must beTCFS' top priority in 2012. Participate in our scheduled photo sessions to show unified support forteens.Photo Schedule:4pm-Staff of Agency4:30pm-School Representatives4:45pm-Law Enforcement Representatives5:00pm-Church Representatives5:15pm-Friends of TCFS Members5:30pm-Past BoardPresidents5:45pm-Former Board Members6:00pm-Current Board MembersEnjoy hors d'oeuvres\, beverages and networking. Event is open-house style\, all are welcome to attend. Please R.S.V.P. to 630-232-1070 to allow us to estimate a headcount.
X-ALT-DESC;FMTTYPE=text/html:<P>You are invited to a Kick Off Reception for TriCity Family Services Teens Won't Wait Project\, Friday\, Jan. 27th\, 2012.Teens Won't Wait is an agency-wide initiative to increase our impact on teenagers in the community and achieve the funding necessary to treat more of them than we ever have in the history of our agency.Meet and hear from teens themselves. See why services for teens must beTCFS' top priority in 2012. Participate in our scheduled photo sessions to show unified support forteens.</P><P>Photo Schedule:</P><P>4pm-Staff of Agency</P><P>4:30pm-School Representatives</P><P>4:45pm-Law Enforcement Representatives</P><P>5:00pm-Church Representatives</P><P>5:15pm-Friends of TCFS Members</P><P>5:30pm-Past BoardPresidents</P><P>5:45pm-Former Board Members</P><P>6:00pm-Current Board MembersEnjoy hors d'oeuvres\, beverages and networking. </P><P>Event is open-house style\, all are welcome to attend. Please R.S.V.P. to 630-232-1070 to allow us to estimate a headcount.</P>
LOCATION:TriCity Family Services
UID:e.1902.477
SEQUENCE:3
DTSTAMP:20260422T223419Z
URL:https://business.bataviachamber.org/events/details/teens-won-t-wait-kick-off-reception-01-27-2012-477
END:VEVENT

END:VCALENDAR
