BEGIN:VCALENDAR
VERSION:2.0
PRODID:-//ChamberMaster//Event Calendar 2.0//EN
METHOD:PUBLISH
X-PUBLISHED-TTL:P3D
REFRESH-INTERVAL:P3D
CALSCALE:GREGORIAN
BEGIN:VEVENT
DTSTART:20091114T060000Z
DTEND:20091114T060000Z
X-MICROSOFT-CDO-ALLDAYEVENT:FALSE
SUMMARY:TCFS Trivia Night
DESCRIPTION:Saturday\, November 14\, 2009\n\nVFW\, 119 North Third Street\, St. Charles\n6:00 - 7:00 PM Social Hour\n7:00 - 10:00 PM Trivia Time\n\n$10 Per Person\n\nJoin us for an informal\, fun competition where your team of six to eight people will battle other teams to see who has the greatest knowledge of things trivial.  \n\nYour team will have its own table.  The VFW will provide a cash bar.  Bring a fun team name and theme\, as well as munchies or a full meal for your team to enjoy.\n\nAll proceeds benefit TriCity Family Services\nSave the Date...Saturday\, November 14\, 2009\n\nRegistration available onwebsite.
X-ALT-DESC;FMTTYPE=text/html:Saturday\, November 14\, 2009\n\nVFW\, 119 North Third Street\, St. Charles\n6:00 - 7:00 PM Social Hour\n7:00 - 10:00 PM Trivia Time\n\n$10 Per Person\n\nJoin us for an informal\, fun competition where your team of six to eight people will battle other teams to see who has the greatest knowledge of things trivial.  \n\nYour team will have its own table.  The VFW will provide a cash bar.  Bring a fun team name and theme\, as well as munchies or a full meal for your team to enjoy.\n\nAll proceeds benefit TriCity Family Services\nSave the Date...Saturday\, November 14\, 2009\n\nRegistration available onwebsite.
LOCATION:VFW St. Charles
UID:e.1902.1051
SEQUENCE:3
DTSTAMP:20260424T192752Z
URL:https://business.bataviachamber.org/events/details/tcfs-trivia-night-11-14-2009-1051
END:VEVENT

END:VCALENDAR
