BEGIN:VCALENDAR
VERSION:2.0
PRODID:-//ChamberMaster//Event Calendar 2.0//EN
METHOD:PUBLISH
X-PUBLISHED-TTL:P3D
REFRESH-INTERVAL:P3D
CALSCALE:GREGORIAN
BEGIN:VEVENT
DTSTART:20100206T060000Z
DTEND:20100206T060000Z
X-MICROSOFT-CDO-ALLDAYEVENT:FALSE
SUMMARY:TCFS Trivia Night
DESCRIPTION:Join us for an informal\, fun competition where your team of six to eight people will battle other teams to see who has the greatest knowledge of things trivial.   \n\nYour team will have its own table.  The VFW will provide a cash bar.  Bring a fun team name and theme\, as well as munchies or a fullmeal for your team to enjoy.\n\nAll proceeds benefit TriCity Family Services\nSave the Date...Saturday\, February 6\, 2010\n\nRegistration information available soon.
X-ALT-DESC;FMTTYPE=text/html:Join us for an informal\, fun competition where your team of six to eight people will battle other teams to see who has the greatest knowledge of things trivial.   \n\nYour team will have its own table.  The VFW will provide a cash bar.  Bring a fun team name and theme\, as well as munchies or a fullmeal for your team to enjoy.\n\nAll proceeds benefit TriCity Family Services\nSave the Date...Saturday\, February 6\, 2010\n\nRegistration information available soon.
LOCATION:VFW St. Charles
UID:e.1902.1052
SEQUENCE:3
DTSTAMP:20260424T145817Z
URL:https://business.bataviachamber.org/events/details/tcfs-trivia-night-02-06-2010-1052
END:VEVENT

END:VCALENDAR
