BEGIN:VCALENDAR
VERSION:2.0
PRODID:-//ChamberMaster//Event Calendar 2.0//EN
METHOD:PUBLISH
X-PUBLISHED-TTL:P3D
REFRESH-INTERVAL:P3D
CALSCALE:GREGORIAN
BEGIN:VEVENT
DTSTART:20260425T170000Z
DTEND:20260425T190000Z
X-MICROSOFT-CDO-ALLDAYEVENT:FALSE
SUMMARY:Taste of Hollywood Pop-Up at Chicago Premium Outlets
DESCRIPTION:Get ready for a sneak peek of what's cooking at the all-new Hollywood Casino Aurora! Join us for a "Taste of Hollywood" pop-up event on Saturday\, April 25 from noon to 2 p.m. at Chicago Premium Outlets.\n\nBe among the first to sample bites from exciting new dining concepts coming to the Boulevard Food & Drink Hall\, including Urbanbelly and local favorite Pretty Cool Ice Cream on us\, while supplies last!\n\nSnap a photo\, soak up the buzz\, and check out the debut of the Hollywood Oasis\, a stylish Hollywood Casino-branded Airstream that's ready to hit the road and make appearances all over the community.\n\nWhether you're a foodie\, a fan of fun\, or just curious about what's next for Hollywood Aurora\, this free event is your chance to get a delicious first look.
X-ALT-DESC;FMTTYPE=text/html:<p data-end="378" data-start="154">Get ready for a sneak peek of what&rsquo\;s cooking at the all-new Hollywood Casino Aurora! Join us for a <strong data-end="277" data-start="253">&ldquo\;Taste of Hollywood&rdquo\;</strong> pop-up event on <strong data-end="336" data-start="294">Saturday\, April 25 from noon to 2 p.m.</strong> at <span class="hover:entity-accent entity-underline inline cursor-pointer align-baseline">Chicago Premium Outlets</span>.</p>\n\n<p data-end="589" data-start="380">Be among the first to sample bites from exciting new dining concepts coming to the Boulevard Food &amp\; Drink Hall\, including <strong data-end="516" data-start="502">Urbanbelly</strong> and local favorite <strong data-end="561" data-start="536">Pretty Cool Ice Cream</strong>&mdash\;on us\, while supplies last!</p>\n\n<p data-end="793" data-start="591">Snap a photo\, soak up the buzz\, and check out the debut of the <strong data-end="673" data-start="654">Hollywood Oasis</strong>\, a stylish Hollywood Casino-branded Airstream that&rsquo\;s ready to hit the road and make appearances all over the community.</p>\n\n<p data-end="951" data-start="795">Whether you&rsquo\;re a foodie\, a fan of fun\, or just curious about what&rsquo\;s next for Hollywood Aurora\, this free event is your chance to get a delicious first look.</p>\n
LOCATION:Chicago Premium Outlets Outside Hollywood Aurora's Career Center
UID:e.1902.31812
SEQUENCE:3
DTSTAMP:20260423T085513Z
URL:https://business.bataviachamber.org/events/details/taste-of-hollywood-pop-up-at-chicago-premium-outlets-31812
END:VEVENT

END:VCALENDAR
