BEGIN:VCALENDAR
VERSION:2.0
PRODID:-//ChamberMaster//Event Calendar 2.0//EN
METHOD:PUBLISH
X-PUBLISHED-TTL:P3D
REFRESH-INTERVAL:P3D
CALSCALE:GREGORIAN
BEGIN:VEVENT
DTSTART:20100610T050000Z
DTEND:20100610T050000Z
X-MICROSOFT-CDO-ALLDAYEVENT:FALSE
SUMMARY:Take me out to the Ballgame!
DESCRIPTION:Visit Alden Courts of Waterford for an after-hours baseball event! Network\, socialize\, and enjoy thetastes of the ballpark. Enter for a chance to win tickets to a Chicago major league baseball game.Bring plenty of business cards and your appetite.
X-ALT-DESC;FMTTYPE=text/html:Visit Alden Courts of Waterford for an after-hours baseball event! Network\, socialize\, and enjoy thetastes of the ballpark. Enter for a chance to win tickets to a Chicago major league baseball game.Bring plenty of business cards and your appetite.
LOCATION:Alden Courts of Waterford
UID:e.1902.1166
SEQUENCE:3
DTSTAMP:20260420T112637Z
URL:https://business.bataviachamber.org/events/details/take-me-out-to-the-ballgame-06-10-2010-1166
END:VEVENT

END:VCALENDAR
