BEGIN:VCALENDAR
VERSION:2.0
PRODID:-//ChamberMaster//Event Calendar 2.0//EN
METHOD:PUBLISH
X-PUBLISHED-TTL:P3D
REFRESH-INTERVAL:P3D
CALSCALE:GREGORIAN
BEGIN:VEVENT
DTSTART:20100610T050000Z
DTEND:20100610T050000Z
X-MICROSOFT-CDO-ALLDAYEVENT:FALSE
SUMMARY:Take Me Out To the Ball Game After hour event
DESCRIPTION:Visist Alden Courts of Waterford for an after hours baseball event! Come and tour and enjoy ballparkfood\, beverages and lots of fun! A chance to win tickets for a Chicago Major League Baseball team!!RSVP to 630-851-1466 by June 3rd.
X-ALT-DESC;FMTTYPE=text/html:Visist Alden Courts of Waterford for an after hours baseball event! Come and tour and enjoy ballparkfood\, beverages and lots of fun! A chance to win tickets for a Chicago Major League Baseball team!!RSVP to 630-851-1466 by June 3rd.
LOCATION:Alden Courts of Waterford
UID:e.1902.1167
SEQUENCE:3
DTSTAMP:20260420T112857Z
URL:https://business.bataviachamber.org/events/details/take-me-out-to-the-ball-game-after-hour-event-06-10-2010-1167
END:VEVENT

END:VCALENDAR
