BEGIN:VCALENDAR
VERSION:2.0
PRODID:-//ChamberMaster//Event Calendar 2.0//EN
METHOD:PUBLISH
X-PUBLISHED-TTL:P3D
REFRESH-INTERVAL:P3D
CALSCALE:GREGORIAN
BEGIN:VEVENT
DTSTART:20090219T060000Z
DTEND:20090219T060000Z
X-MICROSOFT-CDO-ALLDAYEVENT:FALSE
SUMMARY:Tackling The Wine List
DESCRIPTION:Whether in business or a social setting\, selecting wine from the wine list can be an overwhelming task! Learn how to maneuver through the selections and the expectations of the other guests to make your next dining experience less intimidating and much more rewarding!Participants will sample 6 winesduring this class and it will be held at Gibby's Wine Den.Contact Waubonsee Community College to register for this class at 630-466-7900x2370.
X-ALT-DESC;FMTTYPE=text/html:Whether in business or a social setting\, selecting wine from the wine list can be an overwhelming task! Learn how to maneuver through the selections and the expectations of the other guests to make your next dining experience less intimidating and much more rewarding!Participants will sample 6 winesduring this class and it will be held at Gibby's Wine Den.Contact Waubonsee Community College to register for this class at 630-466-7900x2370.
LOCATION:Gibby's Wine Den
UID:e.1902.857
SEQUENCE:3
DTSTAMP:20260421T161911Z
URL:https://business.bataviachamber.org/events/details/tackling-the-wine-list-02-19-2009-857
END:VEVENT

END:VCALENDAR
