BEGIN:VCALENDAR
VERSION:2.0
PRODID:-//ChamberMaster//Event Calendar 2.0//EN
METHOD:PUBLISH
X-PUBLISHED-TTL:P3D
REFRESH-INTERVAL:P3D
CALSCALE:GREGORIAN
BEGIN:VEVENT
DTSTART:20251106T141500Z
DTEND:20251106T190000Z
X-MICROSOFT-CDO-ALLDAYEVENT:FALSE
SUMMARY:Superheros Luncheon CASA of Kane County 2025
DESCRIPTION:On Thursday\, November 6\, 2025\, CASA Kane County will host our 13th Annual Super Heroes Event! This event is meant to bring together members of the community to learn more about our mission to advocate for the voices of children in foster care. Please join us to gain an understanding of the status of abuse and neglect in Kane County\, the need for increased support for these precious children\, and the power each of us has to help Change a Child's Story!\n\n\n\nThis year\, we are offering a morning session with breakfast\, and a lunch session as well! In between\, there will be a book discussion for those who wish to hear more from our esteemed keynote speaker\, Andrew Bridge.
X-ALT-DESC;FMTTYPE=text/html:On Thursday\, November 6\, 2025\, CASA Kane County will host our 13th Annual&nbsp\;Super Heroes Event!&nbsp\;This event is meant to bring together members of the community to learn more about our mission to advocate for the voices of children in foster care. Please join us to gain an understanding of the status of abuse and neglect in Kane County\,&nbsp\;the need for increased support&nbsp\;for these precious children\, and the power each of us has to help Change a Child&#39\;s Story!<br />\n<br />\nThis year\, we are offering a morning&nbsp\;session with breakfast\, and a lunch session as well! In between\, there will be a book discussion for those who wish to hear more from our esteemed keynote speaker\, Andrew Bridge.
LOCATION:Waubonsee Community College - Academic & Professional Center 47 Waubonsee Drive Sugar Grove\, Illinois 60554 United States
UID:e.1902.29759
SEQUENCE:3
DTSTAMP:20260425T032202Z
URL:https://business.bataviachamber.org/events/details/superheros-luncheon-casa-of-kane-county-2025-29759
END:VEVENT

END:VCALENDAR
