BEGIN:VCALENDAR
VERSION:2.0
PRODID:-//ChamberMaster//Event Calendar 2.0//EN
METHOD:PUBLISH
X-PUBLISHED-TTL:P3D
REFRESH-INTERVAL:P3D
CALSCALE:GREGORIAN
BEGIN:VEVENT
DTSTART:20100128T060000Z
DTEND:20100128T060000Z
X-MICROSOFT-CDO-ALLDAYEVENT:FALSE
SUMMARY:Superbowl Party 2010
DESCRIPTION:You are cordially invited to attend a pre-superbowl party.  Guests will enjoy "game day" snacks. watch highlights of the greatest Super Bowl moments - while making new business contacts.  RSVP to 630-217-6838 or kbeedle@aldengroup.org
X-ALT-DESC;FMTTYPE=text/html:You are cordially invited to attend a pre-superbowl party.  Guests will enjoy "game day" snacks. watch highlights of the greatest Super Bowl moments - while making new business contacts.  RSVP to 630-217-6838 or kbeedle@aldengroup.org
LOCATION:Alden Lakes of Waterford
UID:e.1902.1108
SEQUENCE:3
DTSTAMP:20260420T195003Z
URL:https://business.bataviachamber.org/events/details/superbowl-party-2010-01-28-2010-1108
END:VEVENT

END:VCALENDAR
