BEGIN:VCALENDAR
VERSION:2.0
PRODID:-//ChamberMaster//Event Calendar 2.0//EN
METHOD:PUBLISH
X-PUBLISHED-TTL:P3D
REFRESH-INTERVAL:P3D
CALSCALE:GREGORIAN
BEGIN:VEVENT
DTSTART:20100616T050000Z
DTEND:20100616T050000Z
X-MICROSOFT-CDO-ALLDAYEVENT:FALSE
SUMMARY:Super Savvy Senior Expo
DESCRIPTION:The second annual “Super Savvy Senior Expo” will showcase a variety of services available for youngat heart individuals and/or their caregivers. Stop by to browse more than 30 local resources in areas such as healthcare\, travel and entertainment just to name a few. And best of all\, it’s free!
X-ALT-DESC;FMTTYPE=text/html:The second annual “Super Savvy Senior Expo” will showcase a variety of services available for youngat heart individuals and/or their caregivers. Stop by to browse more than 30 local resources in areas such as healthcare\, travel and entertainment just to name a few. And best of all\, it’s free!
LOCATION:Eastside Community Center
UID:e.1902.1163
SEQUENCE:3
DTSTAMP:20260424T072238Z
URL:https://business.bataviachamber.org/events/details/super-savvy-senior-expo-06-16-2010-1163
END:VEVENT

END:VCALENDAR
