BEGIN:VCALENDAR
VERSION:2.0
PRODID:-//ChamberMaster//Event Calendar 2.0//EN
METHOD:PUBLISH
X-PUBLISHED-TTL:P3D
REFRESH-INTERVAL:P3D
CALSCALE:GREGORIAN
BEGIN:VEVENT
DTSTART:20090415T050000Z
DTEND:20090415T050000Z
X-MICROSOFT-CDO-ALLDAYEVENT:FALSE
SUMMARY:Super Savvy Senior Expo
DESCRIPTION:The Batavia Park District and Alden of Waterford invite you to the first ever "Super Savvy Senior Expo" that will feature health\, wellness\, entertainment and fun!! And the best of all\, it's FREE!
X-ALT-DESC;FMTTYPE=text/html:The Batavia Park District and Alden of Waterford invite you to the first ever "Super Savvy Senior Expo" that will feature health\, wellness\, entertainment and fun!! And the best of all\, it's FREE!
LOCATION:Batavia Park District
UID:e.1902.897
SEQUENCE:3
DTSTAMP:20260421T125636Z
URL:https://business.bataviachamber.org/events/details/super-savvy-senior-expo-04-15-2009-897
END:VEVENT

END:VCALENDAR
