BEGIN:VCALENDAR
VERSION:2.0
PRODID:-//ChamberMaster//Event Calendar 2.0//EN
METHOD:PUBLISH
X-PUBLISHED-TTL:P3D
REFRESH-INTERVAL:P3D
CALSCALE:GREGORIAN
BEGIN:VEVENT
DTSTART:20180726T013000Z
DTEND:20180726T030000Z
X-MICROSOFT-CDO-ALLDAYEVENT:FALSE
SUMMARY:Summer Outdoor Movies
DESCRIPTION:Batavia Park District is proud to announce an evening at the movies! Bring the kids\, blankets\, and pillows and come enjoy an evening under the stars watching great family movies together OUTDOORS!  Wonder - Based on the New York Times bestseller\, Wonder tells the incredibly inspiring and heartwarming story of August Pullman\, a boy with facial differences who enters fifth grade\, attending a mainstream elementary school for the first time.
X-ALT-DESC;FMTTYPE=text/html:<span style="font-family:arial narrow\,sans-serif"><span style="font-size:10.0pt">Batavia Park District is proud to announce an evening at the movies! Bring the kids\, blankets\, and</span> pillows and come enjoy an evening under the stars watching great family movies together OUTDOORS!&nbsp\; <strong>Wonder - B</strong></span><span style="font-family:arial\,sans-serif"><span style="font-size:10.0pt">ased on the New York Times bestseller\, Wonder tells the incredibly inspiring and heartwarming story of August Pullman\, a boy with facial differences who enters fifth grade\, attending a mainstream elementary school for the first time.</span></span>
LOCATION:Batavia Riverwalk
UID:e.1902.7907
SEQUENCE:3
DTSTAMP:20260424T114351Z
URL:https://business.bataviachamber.org/events/details/summer-outdoor-movies-7907
END:VEVENT

END:VCALENDAR
