BEGIN:VCALENDAR
VERSION:2.0
PRODID:-//ChamberMaster//Event Calendar 2.0//EN
METHOD:PUBLISH
X-PUBLISHED-TTL:P3D
REFRESH-INTERVAL:P3D
CALSCALE:GREGORIAN
BEGIN:VEVENT
DTSTART:20100819T050000Z
DTEND:20100819T050000Z
X-MICROSOFT-CDO-ALLDAYEVENT:FALSE
SUMMARY:Summer Career Fair
DESCRIPTION:Rasmussen College will host a free Career and Networking Fair for residents of the surrounding communities at its Aurora campus on August 19\, 2010. Companies from a variety of industries will be present and looking to fill positions with qualified candidates. Featured businesses include: Provena Mercy Medical Center\, Concentra\, Liberty Chiropractic\, UPS\, Old Second National Bank\, Family Focus Aurora\, and the Kane County Department of Corrections. Interested parties are encouraged to attend to gain a competitive edge in the job search process. \n\nRasmussen College representatives will be on hand to provide information about Master’s degree programs offered through the Rasmussen Partner Network of schools\, and Bachelor’s and Associate’s degree programs offered through the local campus\, as well as career opportunities within the Rasmussen College system. \n\nThe Rasmussen College Career and Networking Fair provides an opportunity for the public to network with the local business community\, while also highlighting a number of available full-time\, part-time\, volunteer and internship opportunities. The most recent Rasmussen College Aurora Career and Networking Fair in February 2010 attracted more than 250 community members and representation from 30 local businesses.
X-ALT-DESC;FMTTYPE=text/html:Rasmussen College will host a free Career and Networking Fair for residents of the surrounding communities at its Aurora campus on August 19\, 2010. Companies from a variety of industries will be present and looking to fill positions with qualified candidates. Featured businesses include: Provena Mercy Medical Center\, Concentra\, Liberty Chiropractic\, UPS\, Old Second National Bank\, Family Focus Aurora\, and the Kane County Department of Corrections. Interested parties are encouraged to attend to gain a competitive edge in the job search process. \n\nRasmussen College representatives will be on hand to provide information about Master’s degree programs offered through the Rasmussen Partner Network of schools\, and Bachelor’s and Associate’s degree programs offered through the local campus\, as well as career opportunities within the Rasmussen College system. \n\nThe Rasmussen College Career and Networking Fair provides an opportunity for the public to network with the local business community\, while also highlighting a number of available full-time\, part-time\, volunteer and internship opportunities. The most recent Rasmussen College Aurora Career and Networking Fair in February 2010 attracted more than 250 community members and representation from 30 local businesses.
LOCATION:Rasmussen College
UID:e.1902.17
SEQUENCE:3
DTSTAMP:20260420T075009Z
URL:https://business.bataviachamber.org/events/details/summer-career-fair-08-19-2010-17
END:VEVENT

END:VCALENDAR
