BEGIN:VCALENDAR
VERSION:2.0
PRODID:-//ChamberMaster//Event Calendar 2.0//EN
METHOD:PUBLISH
X-PUBLISHED-TTL:P3D
REFRESH-INTERVAL:P3D
CALSCALE:GREGORIAN
BEGIN:VEVENT
DTSTART:20170612T140000Z
DTEND:20170630T163000Z
X-MICROSOFT-CDO-ALLDAYEVENT:FALSE
SUMMARY:Summer Camp at Abbey Farms
DESCRIPTION:Searching for summer opportunities for your elementary aged child? Look no further! Registration for Abbey Farms four new summer programs is now open! General information below and details at https://abbeyfarms.org/store/
X-ALT-DESC;FMTTYPE=text/html:Searching for summer opportunities for your elementary aged child? Look no further! Registration for Abbey Farms four new summer programs is now open! General information below and details at https://abbeyfarms.org/store/
LOCATION:Abbey Farms 2855 Hart Road Aurora\, IL 60502
UID:e.1902.6613
SEQUENCE:3
DTSTAMP:20260425T113602Z
URL:https://business.bataviachamber.org/events/details/summer-camp-at-abbey-farms-6613
END:VEVENT

END:VCALENDAR
