BEGIN:VCALENDAR
VERSION:2.0
PRODID:-//ChamberMaster//Event Calendar 2.0//EN
METHOD:PUBLISH
X-PUBLISHED-TTL:P3D
REFRESH-INTERVAL:P3D
CALSCALE:GREGORIAN
BEGIN:VEVENT
DTSTART:20081004T130000Z
DTEND:20081004T190000Z
X-MICROSOFT-CDO-ALLDAYEVENT:FALSE
SUMMARY:Suicide Prevention Services Yellow Ribbon Walk
DESCRIPTION:The Yellow Ribbon Event for Life is an opportunity for the Fox Valley community to call awareness to the tragedy of suicide. Join us as we raise critical funds for our education and outreach programs.Join hundreds of your neighbors as we take a wonderful and meaningful stroll along the beautiful Fox River between St. Charles and Geneva.
X-ALT-DESC;FMTTYPE=text/html:<P>The Yellow Ribbon Event for Life is an opportunity for the Fox Valley community to call awareness to the tragedy of suicide. Join us as we raise critical funds for our education and outreach programs.</P><P>Join hundreds of your neighbors as we take a wonderful&nbsp\;and meaningful stroll along the beautiful Fox River between St. Charles and Geneva.</P>
LOCATION:Pottawatomie Park
UID:e.1902.1584
SEQUENCE:3
DTSTAMP:20260421T230344Z
URL:https://business.bataviachamber.org/events/details/suicide-prevention-services-yellow-ribbon-walk-10-04-2008-1584
END:VEVENT

END:VCALENDAR
