BEGIN:VCALENDAR
VERSION:2.0
PRODID:-//ChamberMaster//Event Calendar 2.0//EN
METHOD:PUBLISH
X-PUBLISHED-TTL:P3D
REFRESH-INTERVAL:P3D
CALSCALE:GREGORIAN
BEGIN:VEVENT
DTSTART:20110301T060000Z
DTEND:20110331T050000Z
X-MICROSOFT-CDO-ALLDAYEVENT:FALSE
SUMMARY:Student/Teacher Appreciation Month
DESCRIPTION:March is Student/Teacher Appreciation Month at Chicago Premium Outlets®.  Stop by the Information Center located in the Food Court and show your school ID.
X-ALT-DESC;FMTTYPE=text/html:March is Student/Teacher Appreciation Month at Chicago Premium Outlets®.  Stop by the Information Center located in the Food Court and show your school ID.
LOCATION:Chicago Premium Outlets®
UID:e.1902.181
SEQUENCE:3
DTSTAMP:20260419T195447Z
URL:https://business.bataviachamber.org/events/details/student-teacher-appreciation-month-03-01-2011-181
END:VEVENT

END:VCALENDAR
