BEGIN:VCALENDAR
VERSION:2.0
PRODID:-//ChamberMaster//Event Calendar 2.0//EN
METHOD:PUBLISH
X-PUBLISHED-TTL:P3D
REFRESH-INTERVAL:P3D
CALSCALE:GREGORIAN
BEGIN:VEVENT
DTSTART:20100826T050000Z
DTEND:20100826T050000Z
X-MICROSOFT-CDO-ALLDAYEVENT:FALSE
SUMMARY:Stress Management for Adults
DESCRIPTION:Adults interested in learning about stress management are invited to join TriCity Family Services for a seminar\, “Stress Management for Adults” on Thursday\, August 26\, 2010 from 7:00 to 8:30 PM.  \n\nThis seminar will be provided at the TriCity Family Services offices\, located at 1120 Randall Ct.Geneva\, IL 60134.  Attendees will learn what stress is and when it becomes a problem\, ways to de-stress\, and prevention techniques.  The Stress Management for Adults seminar will be presented by SheriO’Brien\, MA\, LCPC\, Senior Clinician/Consultant at TriCity Family Services.    \n\nThe fee for thispresentation is $10.  Fee reductions are available based on need.  Pre-registration is strongly encouraged.  To register\, or for more information\, please call TriCity Family Services at 630-232-1070.
X-ALT-DESC;FMTTYPE=text/html:Adults interested in learning about stress management are invited to join TriCity Family Services for a seminar\, “Stress Management for Adults” on Thursday\, August 26\, 2010 from 7:00 to 8:30 PM.  \n\nThis seminar will be provided at the TriCity Family Services offices\, located at 1120 Randall Ct.Geneva\, IL 60134.  Attendees will learn what stress is and when it becomes a problem\, ways to de-stress\, and prevention techniques.  The Stress Management for Adults seminar will be presented by SheriO’Brien\, MA\, LCPC\, Senior Clinician/Consultant at TriCity Family Services.    \n\nThe fee for thispresentation is $10.  Fee reductions are available based on need.  Pre-registration is strongly encouraged.  To register\, or for more information\, please call TriCity Family Services at 630-232-1070.\n
LOCATION:TriCity Family Services
UID:e.1902.24
SEQUENCE:3
DTSTAMP:20260424T032633Z
URL:https://business.bataviachamber.org/events/details/stress-management-for-adults-08-26-2010-24
END:VEVENT

END:VCALENDAR
