BEGIN:VCALENDAR
VERSION:2.0
PRODID:-//ChamberMaster//Event Calendar 2.0//EN
METHOD:PUBLISH
X-PUBLISHED-TTL:P3D
REFRESH-INTERVAL:P3D
CALSCALE:GREGORIAN
BEGIN:VEVENT
DTSTART:20110514T050000Z
DTEND:20110514T050000Z
X-MICROSOFT-CDO-ALLDAYEVENT:FALSE
SUMMARY:Stop The Traffic 5K Run/Walk
DESCRIPTION:The "Stop the Traffic" 5k run/walk is being held to give awareness and raise funds for the fight against human trafficking and child sex slavery in the U.S.  After the race there will be food\, live music\, a kids zone\, and raffle prizes.  Bring the family for a fun time in the park.
X-ALT-DESC;FMTTYPE=text/html:The "Stop the Traffic" 5k run/walk is being held to give awareness and raise funds for the fight against human trafficking and child sex slavery in the U.S.  After the race there will be food\, live music\, a kids zone\, and raffle prizes.  Bring the family for a fun time in the park.
LOCATION:Batavia River Park
UID:e.1902.211
SEQUENCE:3
DTSTAMP:20260419T163956Z
URL:https://business.bataviachamber.org/events/details/stop-the-traffic-5k-run-walk-05-14-2011-211
END:VEVENT

END:VCALENDAR
