BEGIN:VCALENDAR
VERSION:2.0
PRODID:-//ChamberMaster//Event Calendar 2.0//EN
METHOD:PUBLISH
X-PUBLISHED-TTL:P3D
REFRESH-INTERVAL:P3D
CALSCALE:GREGORIAN
BEGIN:VEVENT
DTSTART:20100628T050000Z
DTEND:20100628T050000Z
X-MICROSOFT-CDO-ALLDAYEVENT:FALSE
SUMMARY:State Representative Mike Fortner's 4th Annual Golf Outing
DESCRIPTION:West Chicago Mayor Mike Kwasman invites you to “link up” with State Representative Mike Fortner\, 95th District\, for a round of golf at Prairie Landing Golf Club.\n\nRegistration begins at noon\, with ashotgun start at 1:00 followed by dinner and prizes at 6:00.\n\n$300 per person\, $1000 per foursome\, $100 for dinner only. Sponsorships are still available.
X-ALT-DESC;FMTTYPE=text/html:West Chicago Mayor Mike Kwasman invites you to “link up” with State Representative Mike Fortner\, 95th District\, for a round of golf at Prairie Landing Golf Club.\n\nRegistration begins at noon\, with ashotgun start at 1:00 followed by dinner and prizes at 6:00.\n\n$300 per person\, $1000 per foursome\, $100 for dinner only. Sponsorships are still available.
LOCATION:Prairie Landing Golf Club
UID:e.1902.5
SEQUENCE:3
DTSTAMP:20260420T111245Z
URL:https://business.bataviachamber.org/events/details/state-representative-mike-fortner-s-4th-annual-golf-outing-06-28-2010-5
END:VEVENT

END:VCALENDAR
