BEGIN:VCALENDAR
VERSION:2.0
PRODID:-//ChamberMaster//Event Calendar 2.0//EN
METHOD:PUBLISH
X-PUBLISHED-TTL:P3D
REFRESH-INTERVAL:P3D
CALSCALE:GREGORIAN
BEGIN:VEVENT
DTSTART:20090918T050000Z
DTEND:20090918T050000Z
X-MICROSOFT-CDO-ALLDAYEVENT:FALSE
SUMMARY:State Rep. Kay Hatcher Open House
DESCRIPTION:Come and meet Representative Hatcher and her staff.
X-ALT-DESC;FMTTYPE=text/html:Come and meet Representative Hatcher and her staff.
LOCATION:State Rep. Kay Hatcher
UID:e.1902.990
SEQUENCE:3
DTSTAMP:20260421T030556Z
URL:https://business.bataviachamber.org/events/details/state-rep-kay-hatcher-open-house-09-18-2009-990
END:VEVENT

END:VCALENDAR
