BEGIN:VCALENDAR
VERSION:2.0
PRODID:-//ChamberMaster//Event Calendar 2.0//EN
METHOD:PUBLISH
X-PUBLISHED-TTL:P3D
REFRESH-INTERVAL:P3D
CALSCALE:GREGORIAN
BEGIN:VEVENT
DTSTART:20090313T050000Z
DTEND:20090313T050000Z
X-MICROSOFT-CDO-ALLDAYEVENT:FALSE
SUMMARY:St. Patty's Bunco Bash
DESCRIPTION:Test your luck on Friday the 13th at the first ever St. Patty's Day Bunco Bash. Bunco is a fast-paced dice game that's easy to learn and fun to play! Doors open at 6:00 pm and games begin at 6:30. Feeis per person and includes refreshments\, games and prizes.
X-ALT-DESC;FMTTYPE=text/html:Test your luck on Friday the 13th at the first ever St. Patty's Day Bunco Bash. Bunco is a fast-paced dice game that's easy to learn and fun to play! Doors open at 6:00 pm and games begin at 6:30. Feeis per person and includes refreshments\, games and prizes.
LOCATION:Batavia Boat Club at Laurelwood Park
UID:e.1902.818
SEQUENCE:3
DTSTAMP:20260421T143730Z
URL:https://business.bataviachamber.org/events/details/st-patty-s-bunco-bash-03-13-2009-818
END:VEVENT

END:VCALENDAR
