BEGIN:VCALENDAR
VERSION:2.0
PRODID:-//ChamberMaster//Event Calendar 2.0//EN
METHOD:PUBLISH
X-PUBLISHED-TTL:P3D
REFRESH-INTERVAL:P3D
CALSCALE:GREGORIAN
BEGIN:VEVENT
DTSTART:20100316T050000Z
DTEND:20100316T050000Z
X-MICROSOFT-CDO-ALLDAYEVENT:FALSE
SUMMARY:St. Patrick's Day Networking Breakfast
DESCRIPTION:St. Patrick' Day Professionals Before Networking Event!!  You are cordially invited to start your day with a "Before Hours Breakfast Networking Event". Come tour Alden Horizon Senior Living facilty.Network with other professionals and enjoy a continental breakfast.   Win a raffle basket!!!
X-ALT-DESC;FMTTYPE=text/html:St. Patrick' Day Professionals Before Networking Event!!  You are cordially invited to start your day with a "Before Hours Breakfast Networking Event". Come tour Alden Horizon Senior Living facilty.Network with other professionals and enjoy a continental breakfast.   Win a raffle basket!!!
LOCATION:Alden Horizon at Waterford
UID:e.1902.1116
SEQUENCE:3
DTSTAMP:20260420T161731Z
URL:https://business.bataviachamber.org/events/details/st-patrick-s-day-networking-breakfast-03-16-2010-1116
END:VEVENT

END:VCALENDAR
