BEGIN:VCALENDAR
VERSION:2.0
PRODID:-//ChamberMaster//Event Calendar 2.0//EN
METHOD:PUBLISH
X-PUBLISHED-TTL:P3D
REFRESH-INTERVAL:P3D
CALSCALE:GREGORIAN
BEGIN:VEVENT
DTSTART:20200315T000000Z
DTEND:20200315T030000Z
X-MICROSOFT-CDO-ALLDAYEVENT:FALSE
SUMMARY:St. Patrick's Day Buffet & Party
DESCRIPTION:Join us for our annual St. Patrick's Day Party and Buffet\, complete with dancing to Irish tunes!\n\n\n\nThis delicious specialty buffet features lamb stew\, minted peas\, colcannon mashed potatoes\, salmon with leeks & herb butter\, corned beef on rye with a reuben sauce and Irish soda bread. Finish off your meal with chocolate Guinness brownies and an Irish coffee.  Green beer and Irish brews\, too!\n\n\n\nReserve your space by calling (630) 232-0173 or email nina@oscarswan.com
X-ALT-DESC;FMTTYPE=text/html:Join us for our annual St. Patrick&#39\;s Day Party and Buffet\, complete with dancing to Irish tunes!<br />\n<br />\nThis delicious specialty buffet features lamb stew\, minted peas\, colcannon mashed potatoes\, salmon with leeks &amp\; herb butter\, corned beef on rye with a reuben sauce and Irish soda bread. Finish off your meal with chocolate Guinness brownies and an Irish coffee.&nbsp\; Green beer and Irish brews\, too!<br />\n<br />\nReserve your space by calling (630) 232-0173 or email nina@oscarswan.com<br />\n<br />\n<br />\n<br />\n&nbsp\;
LOCATION:The Oscar Swan Country Inn 1800 West State Street Geneva\, IL. 60134
UID:e.1902.12067
SEQUENCE:3
DTSTAMP:20260422T213851Z
URL:https://business.bataviachamber.org/events/details/st-patrick-s-day-buffet-party-12067
END:VEVENT

END:VCALENDAR
