BEGIN:VCALENDAR
VERSION:2.0
PRODID:-//ChamberMaster//Event Calendar 2.0//EN
METHOD:PUBLISH
X-PUBLISHED-TTL:P3D
REFRESH-INTERVAL:P3D
CALSCALE:GREGORIAN
BEGIN:VEVENT
DTSTART;VALUE=DATE:20200317
DTEND;VALUE=DATE:20200318
TRANSP:TRANSPARENT
X-MICROSOFT-CDO-ALLDAYEVENT:TRUE
SUMMARY:St. Patrick's Day at McChesney's Pub
DESCRIPTION:Join us at McChesney's Bar & Grill for all day St. Patrick's Day specials & $5 Jameson drink specials.
X-ALT-DESC;FMTTYPE=text/html:<span style="background-color:rgb(255\, 255\, 255)\; font-family:calibri light\,sans-serif\; font-size:13.3333px">Join us at McChesney&rsquo\;s Bar &amp\; Grill for all day St. Patrick&rsquo\;s Day specials &amp\; $5 Jameson drink specials.&nbsp\;</span>
LOCATION:Prairie Landing Golf Club McChesney's Bar & Grill 2325 Longest Drive West Chicago\, IL 60185 630.208.7633
UID:e.1902.12037
SEQUENCE:3
DTSTAMP:20260422T224853Z
URL:https://business.bataviachamber.org/events/details/st-patrick-s-day-12037
END:VEVENT

END:VCALENDAR
