BEGIN:VCALENDAR
VERSION:2.0
PRODID:-//ChamberMaster//Event Calendar 2.0//EN
METHOD:PUBLISH
X-PUBLISHED-TTL:P3D
REFRESH-INTERVAL:P3D
CALSCALE:GREGORIAN
BEGIN:VEVENT
DTSTART:20091206T060000Z
DTEND:20091206T060000Z
X-MICROSOFT-CDO-ALLDAYEVENT:FALSE
SUMMARY:St. Nicholas Celebration
DESCRIPTION:The St. Nicholas Celebration is an event that will celebrate Christmas through the story of St. Nicholas through music\, a puppet show\, and a short skit. Children will receive St. Nicholas gifts. Attendees are asked to bring used but usable shoes and/or an item for the Batavia Interfaith Food Pantryto share with those in need.
X-ALT-DESC;FMTTYPE=text/html:The St. Nicholas Celebration is an event that will celebrate Christmas through the story of St. Nicholas through music\, a puppet show\, and a short skit. Children will receive St. Nicholas gifts. Attendees are asked to bring used but usable shoes and/or an item for the Batavia Interfaith Food Pantryto share with those in need.
LOCATION:Peg Bond Center
UID:e.1902.1071
SEQUENCE:3
DTSTAMP:20260420T214826Z
URL:https://business.bataviachamber.org/events/details/st-nicholas-celebration-12-06-2009-1071
END:VEVENT

END:VCALENDAR
