BEGIN:VCALENDAR
VERSION:2.0
PRODID:-//ChamberMaster//Event Calendar 2.0//EN
METHOD:PUBLISH
X-PUBLISHED-TTL:P3D
REFRESH-INTERVAL:P3D
CALSCALE:GREGORIAN
BEGIN:VEVENT
DTSTART:20100513T163000Z
DTEND:20100513T181500Z
X-MICROSOFT-CDO-ALLDAYEVENT:FALSE
SUMMARY:Springfield Update with Greg Baise\, President\, IMA
DESCRIPTION:The Batavia Chamber of Commerce is fortunate to have one of our members\, Janice Christiansen of FlagSource\, as Chairperson of the Illinois Manufacturers Association for 2010.  We are even more fortunate that she has arranged to bring Greg Baise\, IMA President to Batavia for a Springfield update. Few people are more knowledgeable about the State of Illinois and its economic condition than Greg. And if you think this lunch is just for manufacturers and decide to skip it...you are making a mistake! Please join us to gain valuable insights into the challenges the state and its employers face.
X-ALT-DESC;FMTTYPE=text/html:<FONT color=#000000><FONT color=#0000ff><P class=MsoNormal style="MARGIN: 0in 0in 0pt" align=left><SPAN style="FONT-SIZE: 10pt\; FONT-FAMILY: Arial"><FONT color=#0000ff><FONT face=Arial size=4></FONT></FONT></SPAN></P><P class=MsoNormal style="MARGIN: 0in 0in 0pt" align=left><FONT face=Arial size=4>The Batavia Chamber of Commerce is fortunate to have one of our members\, Janice Christiansen of FlagSource\, as Chairperson of the Illinois Manufacturers Association for 2010. </FONT></P><P class=MsoNormal style="MARGIN: 0in 0in 0pt" align=left><FONT face=Arial size=4></FONT>&nbsp\;</P><P class=MsoNormal style="MARGIN: 0in 0in 0pt" align=left><FONT face=Arial><FONT size=4>We are even more fortunate that she has arranged to bring <FONT color=#800000>Greg Baise\, IMA President</FONT> to Batavia for a Springfield update. Few people are more knowledgeable about the State of Illinois and its economic condition than Greg. <EM><FONT color=#800000>And if you think this lunch is just for manufacturers and decide to skip it...you are making a mistake!</FONT></EM></FONT></FONT></P><P class=MsoNormal style="MARGIN: 0in 0in 0pt" align=left><FONT face=Arial size=4></FONT>&nbsp\;</P><P class=MsoNormal style="MARGIN: 0in 0in 0pt" align=left><FONT face=Arial size=4>Please join us to gain valuable insights into the challenges the state and its employers face.</FONT></FONT></P></FONT>
LOCATION:Prairie Landing Golf Club
UID:e.1902.1537
SEQUENCE:3
DTSTAMP:20260420T130431Z
URL:https://business.bataviachamber.org/events/details/springfield-update-with-greg-baise-president-ima-05-13-2010-1537
END:VEVENT

END:VCALENDAR
